{"text_format":"1","workbook":"xlsx","n_sheets":3,"sheets":["Data","Form","Macros"],"not_rendered":{"charts":0,"images":1,"macros":1,"external_links":0,"defined_names":22,"comments":0,"pivot_tables":0},"unopened":[],"bounds":{"document_bytes":16777216,"sheet_cells":100000,"rows_first":2000,"rows_last":500,"rows_between":2000,"halvings":0,"cell_chars":16384,"cell_head_chars":4096},"cells_cut":0,"cells_raw":0,"read":"whole","date_system":"1900"}

{"sheet":"Data","index":0,"n_rows":26,"n_cols":4,"rows_kept":26,"cut":false,"hidden":false,"merged":[[86,0,86,1],[87,0,87,1],[88,0,88,1],[89,0,89,1],[90,0,90,1],[10,2,10,3],[80,0,80,1],[81,0,81,1],[82,0,82,1],[83,0,83,1],[68,0,68,1],[69,0,69,1],[70,0,70,1],[71,0,71,1],[72,0,72,1],[73,0,73,1],[62,0,62,1],[63,0,63,1],[64,0,64,1],[65,0,65,1],[66,0,66,1],[84,0,84,1],[85,0,85,1],[74,0,74,1],[75,0,75,1],[76,0,76,1],[77,0,77,1],[78,0,78,1],[79,0,79,1],[67,0,67,1],[56,0,56,1],[57,0,57,1],[58,0,58,1],[59,0,59,1],[60,0,60,1],[61,0,61,1],[55,0,55,1],[44,0,44,1],[45,0,45,1],[46,0,46,1],[47,0,47,1],[48,0,48,1],[49,0,49,1],[50,0,50,1],[51,0,51,1],[52,0,52,1],[53,0,53,1],[54,0,54,1],[43,0,43,1],[38,0,38,1],[39,0,39,1],[40,0,40,1],[41,0,41,1],[37,0,37,1],[26,0,26,1],[27,0,27,1],[28,0,28,1],[29,0,29,1],[30,0,30,1],[31,0,31,1],[32,0,32,1],[33,0,33,1],[34,0,34,1],[35,0,35,1],[36,0,36,1],[20,1,20,2],[15,1,15,2],[16,1,16,2],[17,1,17,2],[18,1,18,2],[19,1,19,2]]}
["Check Request Data Entry"]
[]
["Please complete the information requested below then select \"Print.\""]
["   Highlighted fields and \"Payment Detail\" are required."]
[]
[]
["Payment Disposition:"]
[]
[null,{"$f":"IF(DispoNum=\"Return to OBU Box\",\"Box Number\",\" \")","v":" "}]
[]
[null,{"$f":"IF(DispoNum=\"Other\",\"Instructions\",\" \")","v":" "}]
[]
[]
[]
["Payee:"]
["   Name *"]
["   Address *"]
["   Address 2"]
["   City, State, Zip *"]
["   OBU ID #"]
["   or Social Security No./TIN"]
[]
["*  required"]
[]
["Payment Detail:"]
["Description",null,"Amount","Account Number"]

{"sheet":"Form","index":1,"n_rows":40,"n_cols":3,"rows_kept":40,"cut":false,"hidden":false,"merged":[]}
["Oklahoma Baptist University"]
["Check Request"]
[]
[]
[null,"ISSUE TO:"]
[{"$f":"IF(DispoNum=\"Mail to Vendor\",\"     [X]  Mail to vendor\",\"     [  ]  Mail to vendor\")","v":"     [X]  Mail to vendor"},"Name",{"$f":"Data!B16","v":0}]
[{"$f":"IF(DispoNum=\"Return to OBU Box\",CONCATENATE(\"     [X]  Return to OBU Box \",Data!C9),\"     [  ]  Return to OBU Box__________\")","v":"     [  ]  Return to OBU Box__________"},"Address",{"$f":"Data!B17","v":0}]
[{"$f":"IF(DispoNum=\"Pick up at Cashier\",\"     [X]  Pick up at Cashier\",\"     [  ]  Pick up at Cashier\")","v":"     [  ]  Pick up at Cashier"},null,{"$f":"Data!B18","v":0}]
[{"$f":"IF(DispoNum=\"Other\",CONCATENATE(\"     [X]  Other:  \",Data!C11),\"     [  ]  Other:  _______________\")","v":"     [  ]  Other:  _______________"},null,{"$f":"Data!B19","v":0}]
[null,"OBU ID#",{"$f":"Data!B20","v":0}]
[null,"SSN/TID",{"$f":"Data!B21","v":0}]
[{"$f":"\"Date Requested:  \"&FIXED(MONTH(TODAY()),0)&\"/\"&FIXED(DAY(TODAY()),0)&\"/\"&FIXED((YEAR(TODAY())-2000),0)","v":"Date Requested:  1/14/14"}]
[]
["Description","Total","Account Number"]
[{"$f":"+Data!A27","v":0},{"$f":"IF(ISBLANK(Data!C27),\" \",ROUND(+Data!C27,2))","v":" "},{"$f":"+Data!D27","v":0}]
[{"$f":"+Data!A28","v":0},{"$f":"IF(ISBLANK(Data!C28),\" \",ROUND(+Data!C28,2))","v":" "},{"$f":"+Data!D28","v":0}]
[{"$f":"+Data!A29","v":0},{"$f":"IF(ISBLANK(Data!C29),\" \",ROUND(+Data!C29,2))","v":" "},{"$f":"+Data!D29","v":0}]
[{"$f":"+Data!A30","v":0},{"$f":"IF(ISBLANK(Data!C30),\" \",ROUND(+Data!C30,2))","v":" "},{"$f":"+Data!D30","v":0}]
[{"$f":"+Data!A31","v":0},{"$f":"IF(ISBLANK(Data!C31),\" \",ROUND(+Data!C31,2))","v":" "},{"$f":"+Data!D31","v":0}]
[{"$f":"+Data!A32","v":0},{"$f":"IF(ISBLANK(Data!C32),\" \",ROUND(+Data!C32,2))","v":" "},{"$f":"+Data!D32","v":0}]
[{"$f":"+Data!A33","v":0},{"$f":"IF(ISBLANK(Data!C33),\" \",ROUND(+Data!C33,2))","v":" "},{"$f":"+Data!D33","v":0}]
[{"$f":"+Data!A34","v":0},{"$f":"IF(ISBLANK(Data!C34),\" \",ROUND(+Data!C34,2))","v":" "},{"$f":"+Data!D34","v":0}]
[{"$f":"+Data!A35","v":0},{"$f":"IF(ISBLANK(Data!C35),\" \",ROUND(+Data!C35,2))","v":" "},{"$f":"+Data!D35","v":0}]
[{"$f":"+Data!A36","v":0},{"$f":"IF(ISBLANK(Data!C36),\" \",ROUND(+Data!C36,2))","v":" "},{"$f":"+Data!D36","v":0}]
[{"$f":"+Data!A37","v":0},{"$f":"IF(ISBLANK(Data!C37),\" \",ROUND(+Data!C37,2))","v":" "},{"$f":"+Data!D37","v":0}]
[{"$f":"+Data!A38","v":0},{"$f":"IF(ISBLANK(Data!C38),\" \",ROUND(+Data!C38,2))","v":" "},{"$f":"+Data!D38","v":0}]
[{"$f":"+Data!A39","v":0},{"$f":"IF(ISBLANK(Data!C39),\" \",ROUND(+Data!C39,2))","v":" "},{"$f":"+Data!D39","v":0}]
[{"$f":"+Data!A40","v":0},{"$f":"IF(ISBLANK(Data!C40),\" \",ROUND(+Data!C40,2))","v":" "},{"$f":"+Data!D40","v":0}]
[{"$f":"+Data!A41","v":0},{"$f":"IF(ISBLANK(Data!C41),\" \",ROUND(+Data!C41,2))","v":" "},{"$f":"+Data!D41","v":0}]
[{"$f":"+Data!A42","v":0},{"$f":"IF(ISBLANK(Data!C42),\" \",ROUND(+Data!C42,2))","v":" "},{"$f":"+Data!D42","v":0}]
[{"$f":"+Data!A43","v":0},{"$f":"IF(ISBLANK(Data!C43),\" \",ROUND(+Data!C43,2))","v":" "},{"$f":"+Data!D43","v":0}]
["Total",{"$f":"ROUND(SUM(B15:B31),2)","v":0}]
[]
[null,"Approved"]
["Requesting Dept/Officer",null,"Dept Head/Organization Sponsor"]
[]
[null,"Date"]
[]
["Business Office Use Only:"]
["Bank ID ____________","Cert. that funds are available _____________"]

{"sheet":"Macros","index":2,"n_rows":53,"n_cols":2,"rows_kept":53,"cut":false,"hidden":false,"merged":[]}
["ChngTyp","{; Change request type}"]
[null,"{Let TypNum, 1-TypNum}"]
[]
[]
["Typs","Check"]
[null,"Cash"]
[]
["TypNum",0]
[]
["ChngDis","{;Change payment disposition}"]
[null,"{If DispoNum = 4}{Let DispoNum, -1}"]
[null,"{Let DispoNum, DispoNum + 1}"]
[null,"{If DispoNum = 1}{EditGoTo OBUBox}{Quit}"]
[null,"{If DispoNum = 4}{EditGoTo Other}{Quit}"]
[null,"{Blank OBUBox}{Blank Other}{EditGoTo Requestor}"]
[]
["Dispos","Mail to Vendor"]
[null,"Return to OBU Box"]
[null,"Pick up at Cashier"]
[null,"Other"]
[]
["DispoNum","Mail to Vendor"]
[]
["PrintIt","{;Print request form}"]
[null,"{Print.Use Request}"]
[null,"{Print.DoPrint}"]
[]
[]
[]
[]
[]
[]
["Addrs1","=#N/A"]
["Addrs2","=#N/A"]
["Addrs3","=#N/A"]
["AllIn","=Data!$B$43:$B$50,Data!$A$52:$C$66"]
["ChngDis","=Macros!$B$10"]
["ChngDisp","=Macros!$B$10"]
["ChngTyp","=Macros!$B$1"]
["DispoNum","=Macros!$B$23"]
["Dispos","=Macros!$B$17:$B$21"]
["Disposition","=#N/A"]
["ID","=#N/A"]
["OBUBox","=#N/A"]
["Other","=#N/A"]
["PrintIt","=Macros!$B$25"]
["ReqTyp","=#N/A"]
["Requestor","=#N/A"]
["Required","=#N/A"]
["SSN","=#N/A"]
["TypNum","=Macros!$B$8"]
["Typs","=Macros!$B$5:$B$6"]
["Vendor","=#N/A"]