{"text_format":"1","workbook":"xlsx","n_sheets":2,"sheets":["Entry","Printed"],"not_rendered":{"charts":0,"images":0,"macros":1,"external_links":0,"defined_names":0,"comments":0,"pivot_tables":0},"unopened":[],"bounds":{"document_bytes":16777216,"sheet_cells":100000,"rows_first":2000,"rows_last":500,"rows_between":2000,"halvings":0,"cell_chars":16384,"cell_head_chars":4096},"cells_cut":0,"cells_raw":0,"read":"whole","date_system":"1900"}

{"sheet":"Entry","index":0,"n_rows":22,"n_cols":10,"rows_kept":22,"cut":false,"hidden":false,"merged":[[22,0,24,6]]}
["OKLAHOMA BAPTIST UNIVERSITY -- REQUEST FOR BUDGET ADJUSTMENT"]
[null,null,{"$f":"TODAY()","v":"2019-09-09"}]
[2020,null,{"$f":"\"Fiscal Year: June 1, \" & (A3-1 ) & \" through May 31, \" & (A3 + 0)","v":"Fiscal Year: June 1, 2019 through May 31, 2020"}]
[null,"Requesting Department"]
[null,"Org Key"]
[null,null,null,null,"Present","Amount"]
[null,"Org","Account","Activity","(Total)","Requested","New"]
["Account Name","Code","Code","Code","Budget","Incr (Decr)","Budget"]
[null,{"$f":"IF(A9=\"\",\"\",$A$5)","v":""},null,null,null,null,{"$f":"E9 + F9","v":0},null,{"$f":"IF(C9<600000,F9,-F9)","v":0},{"$f":"ABS(F9)","v":0}]
[null,{"$f":"IF(A10=\"\",\"\",$A$5)","v":""},null,null,null,null,{"$f":"E10 + F10","v":0},null,0,{"$f":"ABS(F10)","v":0}]
[null,"",null,null,null,null,0,null,0,0]
[null,"",null,null,null,null,0,null,0,0]
[null,"",null,null,null,null,{"$f":"E13 + F13","v":0},null,0,0]
[null,"",null,null,null,null,0,null,0,0]
[null,"",null,null,null,null,0,null,0,0]
[null,"",null,null,null,null,0,null,0,0]
[null,"",null,null,null,null,0,null,0,0]
[null,"",null,null,null,null,0,null,0,0]
[null,"",null,null,null,null,0,null,0,0]
[null,"",null,null,null,null,0,null,0,0]
[null,null,null,null,"Net Change",{"$f":"SUM(I9:I20)","v":0}]
["Reason For Request"]

{"sheet":"Printed","index":1,"n_rows":45,"n_cols":7,"rows_kept":45,"cut":false,"hidden":false,"merged":[[24,0,26,6],[3,0,3,6],[0,0,0,6],[1,0,1,6]]}
["OKLAHOMA BAPTIST UNIVERSITY"]
[" REQUEST FOR BUDGET ADJUSTMENT"]
[]
[{"$f":"Entry!C3","v":"Fiscal Year: June 1, 2019 through May 31, 2020"}]
[]
["Department requesting adjustment:",{"$f":"IF(Entry!A4=0,\"\",Entry!A4)","v":""},null,null,null,"Org Key:",{"$f":"IF(Entry!A5=\"\",\"\",Entry!A5)","v":""}]
[]
[null,null,null,null,"Present","Amount"]
[null,"Org","Account","Activity","(Total)","Requested","New"]
["Account Name","Code","Code","Code","Budget","Incr (Decr)","Budget"]
[{"$f":"IF(Entry!A9=0,\"\",Entry!A9)","v":""},{"$f":"IF(Entry!B9=0,\"\",Entry!B9)","v":""},{"$f":"IF(Entry!C9=0,\"\",Entry!C9)","v":""},{"$f":"IF(Entry!D9=0,\"\",Entry!D9)","v":""},{"$f":"IF(Entry!E9=0,\"\",Entry!E9)","v":""},{"$f":"IF(Entry!F9=0,\"\",Entry!F9)","v":""},{"$f":"IF(Entry!G9=0,\"\",Entry!G9)","v":""}]
[{"$f":"IF(Entry!A10=0,\"\",Entry!A10)","v":""},{"$f":"IF(Entry!B10=0,\"\",Entry!B10)","v":""},{"$f":"IF(Entry!C10=0,\"\",Entry!C10)","v":""},{"$f":"IF(Entry!D10=0,\"\",Entry!D10)","v":""},{"$f":"IF(Entry!E10=0,\"\",Entry!E10)","v":""},{"$f":"IF(Entry!F10=0,\"\",Entry!F10)","v":""},{"$f":"IF(Entry!G10=0,\"\",Entry!G10)","v":""}]
[{"$f":"IF(Entry!A11=0,\"\",Entry!A11)","v":""},{"$f":"IF(Entry!B11=0,\"\",Entry!B11)","v":""},{"$f":"IF(Entry!C11=0,\"\",Entry!C11)","v":""},{"$f":"IF(Entry!D11=0,\"\",Entry!D11)","v":""},{"$f":"IF(Entry!E11=0,\"\",Entry!E11)","v":""},{"$f":"IF(Entry!F11=0,\"\",Entry!F11)","v":""},{"$f":"IF(Entry!G11=0,\"\",Entry!G11)","v":""}]
[{"$f":"IF(Entry!A12=0,\"\",Entry!A12)","v":""},{"$f":"IF(Entry!B12=0,\"\",Entry!B12)","v":""},{"$f":"IF(Entry!C12=0,\"\",Entry!C12)","v":""},{"$f":"IF(Entry!D12=0,\"\",Entry!D12)","v":""},{"$f":"IF(Entry!E12=0,\"\",Entry!E12)","v":""},{"$f":"IF(Entry!F12=0,\"\",Entry!F12)","v":""},{"$f":"IF(Entry!G12=0,\"\",Entry!G12)","v":""}]
[{"$f":"IF(Entry!A13=0,\"\",Entry!A13)","v":""},{"$f":"IF(Entry!B13=0,\"\",Entry!B13)","v":""},{"$f":"IF(Entry!C13=0,\"\",Entry!C13)","v":""},{"$f":"IF(Entry!D13=0,\"\",Entry!D13)","v":""},{"$f":"IF(Entry!E13=0,\"\",Entry!E13)","v":""},{"$f":"IF(Entry!F13=0,\"\",Entry!F13)","v":""},{"$f":"IF(Entry!G13=0,\"\",Entry!G13)","v":""}]
[{"$f":"IF(Entry!A14=0,\"\",Entry!A14)","v":""},{"$f":"IF(Entry!B14=0,\"\",Entry!B14)","v":""},{"$f":"IF(Entry!C14=0,\"\",Entry!C14)","v":""},{"$f":"IF(Entry!D14=0,\"\",Entry!D14)","v":""},{"$f":"IF(Entry!E14=0,\"\",Entry!E14)","v":""},{"$f":"IF(Entry!F14=0,\"\",Entry!F14)","v":""},{"$f":"IF(Entry!G14=0,\"\",Entry!G14)","v":""}]
[{"$f":"IF(Entry!A15=0,\"\",Entry!A15)","v":""},{"$f":"IF(Entry!B15=0,\"\",Entry!B15)","v":""},{"$f":"IF(Entry!C15=0,\"\",Entry!C15)","v":""},{"$f":"IF(Entry!D15=0,\"\",Entry!D15)","v":""},{"$f":"IF(Entry!E15=0,\"\",Entry!E15)","v":""},{"$f":"IF(Entry!F15=0,\"\",Entry!F15)","v":""},{"$f":"IF(Entry!G15=0,\"\",Entry!G15)","v":""}]
[{"$f":"IF(Entry!A16=0,\"\",Entry!A16)","v":""},{"$f":"IF(Entry!B16=0,\"\",Entry!B16)","v":""},{"$f":"IF(Entry!C16=0,\"\",Entry!C16)","v":""},{"$f":"IF(Entry!D16=0,\"\",Entry!D16)","v":""},{"$f":"IF(Entry!E16=0,\"\",Entry!E16)","v":""},{"$f":"IF(Entry!F16=0,\"\",Entry!F16)","v":""},{"$f":"IF(Entry!G16=0,\"\",Entry!G16)","v":""}]
[{"$f":"IF(Entry!A17=0,\"\",Entry!A17)","v":""},{"$f":"IF(Entry!B17=0,\"\",Entry!B17)","v":""},{"$f":"IF(Entry!C17=0,\"\",Entry!C17)","v":""},{"$f":"IF(Entry!D17=0,\"\",Entry!D17)","v":""},{"$f":"IF(Entry!E17=0,\"\",Entry!E17)","v":""},{"$f":"IF(Entry!F17=0,\"\",Entry!F17)","v":""},{"$f":"IF(Entry!G17=0,\"\",Entry!G17)","v":""}]
[{"$f":"IF(Entry!A18=0,\"\",Entry!A18)","v":""},{"$f":"IF(Entry!B18=0,\"\",Entry!B18)","v":""},{"$f":"IF(Entry!C18=0,\"\",Entry!C18)","v":""},{"$f":"IF(Entry!D18=0,\"\",Entry!D18)","v":""},{"$f":"IF(Entry!E18=0,\"\",Entry!E18)","v":""},{"$f":"IF(Entry!F18=0,\"\",Entry!F18)","v":""},{"$f":"IF(Entry!G18=0,\"\",Entry!G18)","v":""}]
[{"$f":"IF(Entry!A19=0,\"\",Entry!A19)","v":""},{"$f":"IF(Entry!B19=0,\"\",Entry!B19)","v":""},{"$f":"IF(Entry!C19=0,\"\",Entry!C19)","v":""},{"$f":"IF(Entry!D19=0,\"\",Entry!D19)","v":""},{"$f":"IF(Entry!E19=0,\"\",Entry!E19)","v":""},{"$f":"IF(Entry!F19=0,\"\",Entry!F19)","v":""},{"$f":"IF(Entry!G19=0,\"\",Entry!G19)","v":""}]
[{"$f":"IF(Entry!A20=0,\"\",Entry!A20)","v":""},{"$f":"IF(Entry!B20=0,\"\",Entry!B20)","v":""},{"$f":"IF(Entry!C20=0,\"\",Entry!C20)","v":""},{"$f":"IF(Entry!D20=0,\"\",Entry!D20)","v":""},{"$f":"IF(Entry!E20=0,\"\",Entry!E20)","v":""},{"$f":"IF(Entry!F20=0,\"\",Entry!F20)","v":""},{"$f":"IF(Entry!G20=0,\"\",Entry!G20)","v":""}]
[null,null,null,null,"Net Change",{"$f":"IF(ABS(Entry!F21)<0.005,0,Entry!F21)","v":0}]
["Reason for Request:"]
[{"$f":"IF(Entry!A23=0,\"\",Entry!A23)","v":""}]
[]
[]
[null,null,null,null,"Date:"]
["Signature-Budget Director"]
[]
["Approved:"]
[]
[]
["Dean/Supervisor",null,"Provost/Exec VP",null,null,"Chief Budget Officer"]
[]
[]
["Date",null,"Date",null,null,"Date"]
[]
["Remarks:"]
[]
[]
[]
["Budget Updated by:  ________________________  Date:  __________________",null,null,null,null,"BD02 Total:",{"$f":"SUM(Entry!J9:J20)","v":0}]
[]
["Scanned:  ________  Emailed:  ________"]